BEGIN:VCALENDAR
VERSION:2.0
PRODID:-//ChamberMaster//Event Calendar 2.0//EN
METHOD:PUBLISH
X-PUBLISHED-TTL:P1H
REFRESH-INTERVAL:P1H
CALSCALE:GREGORIAN
BEGIN:VTIMEZONE
TZID:America/Chicago
BEGIN:DAYLIGHT
RRULE:FREQ=YEARLY;BYMONTH=3;BYDAY=2SU
DTSTART:20070101T000000
TZOFFSETFROM:-0600
TZOFFSETTO:-0500
TZNAME:Central Daylight Time
END:DAYLIGHT
BEGIN:STANDARD
RRULE:FREQ=YEARLY;BYMONTH=11;BYDAY=1SU
DTSTART:20070101T000000
TZOFFSETFROM:-0500
TZOFFSETTO:-0600
TZNAME:Central Standard Time
END:STANDARD
END:VTIMEZONE
BEGIN:VEVENT
DTSTART;TZID=America/Chicago:20260418T110000
DTEND;TZID=America/Chicago:20260419T150000
X-MICROSOFT-CDO-ALLDAYEVENT:FALSE
SUMMARY:WCAR Open House Weekend
DESCRIPTION:Join WCAR for an open house weekend! We want as many agents to have an open house on April 18th & 19th from 11am to 3pm as we can! You could even ask a lender to be on site for that day! Open houses will need to be registered here no later than April 16th so that WCAR can advertise it. If you are wanting to have more than 1 open house make sure to select how many and enter teh information. For ex. having 2 you would select Open House #1 and Open House #2
X-ALT-DESC;FMTTYPE=text/html:<!DOCTYPE html><html><head><title></title></head><body aria-disabled="false"><p>Join WCAR for an open house weekend! We want as many agents to have an open house on April 18th &amp\; 19th from 11am to 3pm as we can! You could even ask a lender to be on site for that day! Open houses will need to be registered here no later than April 16th so that WCAR can advertise it. If you are wanting to have more than 1 open house make sure to select how many and enter teh information. For ex. having 2 you would select Open House #1 and Open House #2</p></body></html>
LOCATION:
UID:e.2794.1424195
SEQUENCE:3
DTSTAMP:20260419T170440Z
URL:https://members.wcarealtors.com/events/Details/wcar-open-house-weekend-1683926?sourceTypeId=Hub
END:VEVENT
END:VCALENDAR
