BEGIN:VCALENDAR
VERSION:2.0
PRODID:-//ChamberMaster//Event Calendar 2.0//EN
METHOD:PUBLISH
X-PUBLISHED-TTL:P1H
REFRESH-INTERVAL:P1H
CALSCALE:GREGORIAN
BEGIN:VTIMEZONE
TZID:America/Chicago
BEGIN:DAYLIGHT
RRULE:FREQ=YEARLY;BYMONTH=3;BYDAY=2SU
DTSTART:20070101T000000
TZOFFSETFROM:-0600
TZOFFSETTO:-0500
TZNAME:Central Daylight Time
END:DAYLIGHT
BEGIN:STANDARD
RRULE:FREQ=YEARLY;BYMONTH=11;BYDAY=1SU
DTSTART:20070101T000000
TZOFFSETFROM:-0500
TZOFFSETTO:-0600
TZNAME:Central Standard Time
END:STANDARD
END:VTIMEZONE
BEGIN:VEVENT
DTSTART;VALUE=DATE:20260530
DTEND;VALUE=DATE:20260531
TRANSP:TRANSPARENT
X-MICROSOFT-CDO-ALLDAYEVENT:TRUE
SUMMARY:Benton County Softball Tournament
DESCRIPTION:Join us for a softball tournament! Get a team together and join the  fun! Teams are $260 for 10 players in a 7/3 format. 2 Home Run Limit unless buy unlimited home runs for $50. Proceeds benefit Benton County Softball Programs
X-ALT-DESC;FMTTYPE=text/html:<!DOCTYPE html><html><head><title></title></head><body aria-disabled="false"><p>Join us for a softball tournament!&nbsp\;</p><p>Get a team together and join the &nbsp\;fun! Teams are $260 for 10 players in a 7/3 format. 2 Home Run Limit unless buy unlimited home runs for $50.&nbsp\;</p><p>Proceeds benefit Benton County Softball Programs&nbsp\;&nbsp\;</p></body></html>
LOCATION:
UID:e.2794.1374236
SEQUENCE:3
DTSTAMP:20260419T170439Z
URL:https://members.wcarealtors.com/events/Details/benton-county-softball-tournament-1622365?sourceTypeId=Hub
END:VEVENT
END:VCALENDAR
