BEGIN:VCALENDAR
VERSION:2.0
PRODID:-//ChamberMaster//Event Calendar 2.0//EN
METHOD:PUBLISH
X-PUBLISHED-TTL:P1H
REFRESH-INTERVAL:P1H
CALSCALE:GREGORIAN
BEGIN:VTIMEZONE
TZID:America/Chicago
BEGIN:DAYLIGHT
RRULE:FREQ=YEARLY;BYMONTH=3;BYDAY=2SU
DTSTART:20070101T000000
TZOFFSETFROM:-0600
TZOFFSETTO:-0500
TZNAME:Central Daylight Time
END:DAYLIGHT
BEGIN:STANDARD
RRULE:FREQ=YEARLY;BYMONTH=11;BYDAY=1SU
DTSTART:20070101T000000
TZOFFSETFROM:-0500
TZOFFSETTO:-0600
TZNAME:Central Standard Time
END:STANDARD
END:VTIMEZONE
BEGIN:VEVENT
DTSTART;TZID=America/Chicago:20260603T130000
DTEND;TZID=America/Chicago:20260603T153000
X-MICROSOFT-CDO-ALLDAYEVENT:FALSE
SUMMARY:WCAR New Member Class - Missouri REALTOR & NAR
DESCRIPTION:This class is required of all new member of WCAR Board and MLS
X-ALT-DESC;FMTTYPE=text/html:This class is required of all new member of WCAR Board and MLS
LOCATION:1400 S Limit Ave #23 Sedalia MO 65301
UID:e.2794.1444272
SEQUENCE:3
DTSTAMP:20260419T170550Z
URL:https://members.wcarealtors.com/events/Details/wcar-new-member-class-missouri-realtor-nar-1710639?sourceTypeId=Hub
END:VEVENT
END:VCALENDAR
