BEGIN:VCALENDAR
VERSION:2.0
PRODID:-//ChamberMaster//Event Calendar 2.0//EN
METHOD:PUBLISH
X-PUBLISHED-TTL:P1H
REFRESH-INTERVAL:P1H
CALSCALE:GREGORIAN
BEGIN:VTIMEZONE
TZID:America/Chicago
BEGIN:DAYLIGHT
RRULE:FREQ=YEARLY;BYMONTH=3;BYDAY=2SU
DTSTART:20070101T000000
TZOFFSETFROM:-0600
TZOFFSETTO:-0500
TZNAME:Central Daylight Time
END:DAYLIGHT
BEGIN:STANDARD
RRULE:FREQ=YEARLY;BYMONTH=11;BYDAY=1SU
DTSTART:20070101T000000
TZOFFSETFROM:-0500
TZOFFSETTO:-0600
TZNAME:Central Standard Time
END:STANDARD
END:VTIMEZONE
BEGIN:VEVENT
DTSTART;TZID=America/Chicago:20260423T103000
DTEND;TZID=America/Chicago:20260423T110000
X-MICROSOFT-CDO-ALLDAYEVENT:FALSE
SUMMARY:Special MLS Committee Meeting
DESCRIPTION:Special MLS Committee Meeting called by WCAR President\, Ashlee Martin.  Thursday April 23rd @10:30 am before the General Membership meeting at Best Western
X-ALT-DESC;FMTTYPE=text/html:Special MLS Committee Meeting called by WCAR President\, Ashlee Martin.  Thursday April 23rd @10:30 am before the General Membership meeting at Best Western
LOCATION:Limit St Sedalia
UID:e.2794.1442175
SEQUENCE:3
DTSTAMP:20260419T170526Z
URL:https://members.wcarealtors.com/events/Details/special-mls-committee-meeting-1708029?sourceTypeId=Hub
END:VEVENT
END:VCALENDAR
