BEGIN:VCALENDAR
VERSION:2.0
PRODID:-//ChamberMaster//Event Calendar 2.0//EN
METHOD:PUBLISH
X-PUBLISHED-TTL:P1H
REFRESH-INTERVAL:P1H
CALSCALE:GREGORIAN
BEGIN:VTIMEZONE
TZID:America/Chicago
BEGIN:DAYLIGHT
RRULE:FREQ=YEARLY;BYMONTH=3;BYDAY=2SU
DTSTART:20070101T000000
TZOFFSETFROM:-0600
TZOFFSETTO:-0500
TZNAME:Central Daylight Time
END:DAYLIGHT
BEGIN:STANDARD
RRULE:FREQ=YEARLY;BYMONTH=11;BYDAY=1SU
DTSTART:20070101T000000
TZOFFSETFROM:-0500
TZOFFSETTO:-0600
TZNAME:Central Standard Time
END:STANDARD
END:VTIMEZONE
BEGIN:VEVENT
DTSTART;TZID=America/Chicago:20261028T090000
DTEND;TZID=America/Chicago:20261028T160000
X-MICROSOFT-CDO-ALLDAYEVENT:FALSE
SUMMARY:Pricing Strategy Advisor (PSA) Mastering the CMA - Certification
DESCRIPTION:After you have taken the class\, 1-2 weeks after you should receive an email notifying you that you are eligible to receive your certification and the you will need to pay the one-time certification application fee of $179.\n\nHere is the PSA website and the webpage that has the information about how a member can obtain that certification: https://psa.realtor/how-to-earn-your-psa/
X-ALT-DESC;FMTTYPE=text/html:After you have taken the class\, 1-2 weeks after you should receive an email notifying you that you are eligible to receive your certification and the you will need to pay the one-time certification application fee of $179.\n\nHere is the PSA website and the webpage that has the information about how a member can obtain that certification: https://psa.realtor/how-to-earn-your-psa/
LOCATION:403 W Broadway Sedalia MO 65301
UID:e.2794.1440807
SEQUENCE:3
DTSTAMP:20260419T170441Z
URL:https://members.wcarealtors.com/events/Details/pricing-strategy-advisor-psa-mastering-the-cma-certification-1706009?sourceTypeId=Hub
END:VEVENT
END:VCALENDAR
