BEGIN:VCALENDAR
VERSION:2.0
PRODID:-//ChamberMaster//Event Calendar 2.0//EN
METHOD:PUBLISH
X-PUBLISHED-TTL:P1H
REFRESH-INTERVAL:P1H
CALSCALE:GREGORIAN
BEGIN:VTIMEZONE
TZID:America/Chicago
BEGIN:DAYLIGHT
RRULE:FREQ=YEARLY;BYMONTH=3;BYDAY=2SU
DTSTART:20070101T000000
TZOFFSETFROM:-0600
TZOFFSETTO:-0500
TZNAME:Central Daylight Time
END:DAYLIGHT
BEGIN:STANDARD
RRULE:FREQ=YEARLY;BYMONTH=11;BYDAY=1SU
DTSTART:20070101T000000
TZOFFSETFROM:-0500
TZOFFSETTO:-0600
TZNAME:Central Standard Time
END:STANDARD
END:VTIMEZONE
BEGIN:VEVENT
DTSTART;TZID=America/Chicago:20260412T140000
DTEND;TZID=America/Chicago:20260412T170000
X-MICROSOFT-CDO-ALLDAYEVENT:FALSE
SUMMARY:REALTOR Family Fun Day at Jesters
DESCRIPTION:** Canceled **Realtor Family Fun Day - bring your family and have a fun day with our members at Jesters! You can bowl or just socialize! Both bowlers and socializers need to sign up for food consideration. Make sure to select bowling or non bowling RSVP type along with game card if wanted. Bowling is Limited! Only 60 can be on lanes at once but we will rotate players! Sign up Early!Food included! Limited number of perepaid game cards available limit 1 per personCome and join the fun you won't want to miss out! \nNo show fee $10 a person without 7 days notice
X-ALT-DESC;FMTTYPE=text/html:<!DOCTYPE html><html><head><title></title></head><body aria-disabled="false"><p>** Canceled **</p><p>Realtor Family Fun Day - bring your family and have a fun day with our members at Jesters! You can bowl or just socialize! Both bowlers and socializers need to sign up for food consideration. Make sure to select bowling or non bowling RSVP type along with game card if wanted.&nbsp\;</p><p>Bowling is Limited! Only 60 can be on lanes at once but we will rotate players! Sign up Early!</p><p>Food included! Limited number of perepaid game cards available limit 1 per person</p><p>Come and join the fun you won&#39\;t want to miss out!&nbsp\;</p><p><br></p><p>No show fee $10 a person without 7 days notice&nbsp\;</p></body></html>
LOCATION:23929 US-65 Warsaw
UID:e.2794.1375968
SEQUENCE:3
DTSTAMP:20260419T170550Z
URL:https://members.wcarealtors.com/events/Details/realtor-family-fun-day-at-jesters-1624343?sourceTypeId=Hub
END:VEVENT
END:VCALENDAR
