BEGIN:VCALENDAR
VERSION:2.0
PRODID:-//ChamberMaster//Event Calendar 2.0//EN
METHOD:PUBLISH
X-PUBLISHED-TTL:P1H
REFRESH-INTERVAL:P1H
CALSCALE:GREGORIAN
BEGIN:VTIMEZONE
TZID:America/Chicago
BEGIN:DAYLIGHT
RRULE:FREQ=YEARLY;BYMONTH=3;BYDAY=2SU
DTSTART:20070101T000000
TZOFFSETFROM:-0600
TZOFFSETTO:-0500
TZNAME:Central Daylight Time
END:DAYLIGHT
BEGIN:STANDARD
RRULE:FREQ=YEARLY;BYMONTH=11;BYDAY=1SU
DTSTART:20070101T000000
TZOFFSETFROM:-0500
TZOFFSETTO:-0600
TZNAME:Central Standard Time
END:STANDARD
END:VTIMEZONE
BEGIN:VEVENT
DTSTART;TZID=America/Chicago:20260606T080000
DTEND;TZID=America/Chicago:20260606T120000
X-MICROSOFT-CDO-ALLDAYEVENT:FALSE
SUMMARY:5K Run/Walk - Give Back Dash -- Community Involvement
DESCRIPTION:Join West Central Association of REALTORS Community Involvement & Public Relations Committee for our Second Annual 5K Give Back Dash to support our Local Senior Center. June 6th @ Katy Park in Sedalia. Registration is @ 8am\, Run @ 9amRegistration Info: Early Bird Prices: Senior 65+ $15 -  Adult - $26\, Age 12 & Under -$16\, Guaranteed a shirt. Early Bird Ends ______________.  Registration after ________  is Adult $31 Child $21. Register Here: https://tinyurl.com/wcar5kMoney raised will be donated to Sedalia Senior center.
X-ALT-DESC;FMTTYPE=text/html:<!DOCTYPE html><html><head><title></title></head><body aria-disabled="false"><p>Join West Central Association of REALTORS Community Involvement &amp\; Public Relations Committee for our Second Annual 5K Give Back Dash to support our Local Senior Center. June 6th @ Katy Park in Sedalia. Registration is @ 8am\, Run @ 9am</p><p>Registration Info: Early Bird Prices: Senior 65+ $15 -&nbsp\; Adult - $26\, Age 12 &amp\; Under -$16\, Guaranteed a shirt. Early Bird Ends ______________. &nbsp\;Registration after ________ &nbsp\;is Adult $31 Child $21. Register Here: <a fr-original-style="" href="https://tinyurl.com/wcar5k" style="user-select: auto\;">https://tinyurl.com/wcar5k</a></p><p>Money raised will be donated to Sedalia Senior center.</p></body></html>
LOCATION:24th and Grand Sedalia MO 65301
UID:e.2794.1438098
SEQUENCE:3
DTSTAMP:20260419T170435Z
URL:https://members.wcarealtors.com/events/Details/5k-run-walk-give-back-dash-community-involvement-1702110?sourceTypeId=Hub
END:VEVENT
END:VCALENDAR
